BEGIN:VCALENDAR
VERSION:2.0
PRODID:-//hacksw/handcal//NONSGML v1.0//EN
BEGIN:VEVENT
SUMMARY:Assemblee Generale ABO
UID:a056e50f-33e8-424f-887a-b6e7196de4f3
DTSTART:20260408T220000Z
DTEND:20260409T220000Z
LOCATION:Localisation   
CATEGORIES:Administratif
STATUS:
DESCRIPTION:<p>L'Assemblee generale ordinaire 2026 a eu lieu ce jeudi
 en presence de 83 personnes presentes ou representees.</p>
 
 <p>Le
 compte de resultat et bilan 2025 ont ete approuves par l'ensemble de
 l'Assemblee.</p>
 
 <p>A la fin de l'assemblee, un echange fructueux a
 eu lieu sur les perspectives 2026/2027.</p>
 
 <p>La reunion s'est
 conclue par la visite de l'esposition des travaux "loisirs creatifs"
 realises par des adherents (Michel, Adeline, Corinne, Francois,
 Isabelle), et le partage du verre de l'amitie.</p>
 
 <p> </p>
URL;VALUE=URI:https://abo.club.ffbridge.fr/evenements/2026/04/09/assemblee-generale-abo-2226454
END:VEVENT
END:VCALENDAR
